BEGIN:VCALENDAR
VERSION:2.0
PRODID:-//Legal Tech Talent Network - ECPv6.15.20//NONSGML v1.0//EN
CALSCALE:GREGORIAN
METHOD:PUBLISH
X-ORIGINAL-URL:https://legaltechtalent.com
X-WR-CALDESC:Events for Legal Tech Talent Network
REFRESH-INTERVAL;VALUE=DURATION:PT1H
X-Robots-Tag:noindex
X-PUBLISHED-TTL:PT1H
BEGIN:VTIMEZONE
TZID:America/New_York
BEGIN:DAYLIGHT
TZOFFSETFROM:-0500
TZOFFSETTO:-0400
TZNAME:EDT
DTSTART:20230312T070000
END:DAYLIGHT
BEGIN:STANDARD
TZOFFSETFROM:-0400
TZOFFSETTO:-0500
TZNAME:EST
DTSTART:20231105T060000
END:STANDARD
BEGIN:DAYLIGHT
TZOFFSETFROM:-0500
TZOFFSETTO:-0400
TZNAME:EDT
DTSTART:20240310T070000
END:DAYLIGHT
BEGIN:STANDARD
TZOFFSETFROM:-0400
TZOFFSETTO:-0500
TZNAME:EST
DTSTART:20241103T060000
END:STANDARD
BEGIN:DAYLIGHT
TZOFFSETFROM:-0500
TZOFFSETTO:-0400
TZNAME:EDT
DTSTART:20250309T070000
END:DAYLIGHT
BEGIN:STANDARD
TZOFFSETFROM:-0400
TZOFFSETTO:-0500
TZNAME:EST
DTSTART:20251102T060000
END:STANDARD
END:VTIMEZONE
BEGIN:VEVENT
DTSTART;VALUE=DATE:20241016
DTEND;VALUE=DATE:20241019
DTSTAMP:20260424T151252
CREATED:20240516T191410Z
LAST-MODIFIED:20240516T191410Z
UID:10000030-1729036800-1729295999@legaltechtalent.com
SUMMARY:2024 CobbleStone Conference
DESCRIPTION:Welcome to the 2024 Cobblestone Conference\, where the dazzling lights of Las Vegas meet the cutting-edge world of contract management. Get ready to immerse yourself in an unparalleled experience – being surrounded by industry leaders\, innovators\, and experts. This year\, we’re transforming the entertainment capital of the world into the epicenter of contract excellence. Join us for an electrifying journey as we showcase the latest advancements in contract management via our CLM solutions. From interactive workshops to insightful keynote sessions\, this conference promises to be a convergence of knowledge\, networking\, and the vibrant spirit of Vegas.
URL:https://legaltechtalent.com/event/2024-cobblestone-conference/
LOCATION:CAESARS PALACE\, Las Vegas\, NV\, United States
END:VEVENT
END:VCALENDAR